BEGIN:VCALENDAR
VERSION:2.0
PRODID:-//UCC-APC - ECPv6.15.20//NONSGML v1.0//EN
CALSCALE:GREGORIAN
METHOD:PUBLISH
X-WR-CALNAME:UCC-APC
X-ORIGINAL-URL:https://www.uccab.ca
X-WR-CALDESC:Events for UCC-APC
REFRESH-INTERVAL;VALUE=DURATION:PT1H
X-Robots-Tag:noindex
X-PUBLISHED-TTL:PT1H
BEGIN:VTIMEZONE
TZID:America/Edmonton
BEGIN:DAYLIGHT
TZOFFSETFROM:-0700
TZOFFSETTO:-0600
TZNAME:MDT
DTSTART:20220313T090000
END:DAYLIGHT
BEGIN:STANDARD
TZOFFSETFROM:-0600
TZOFFSETTO:-0700
TZNAME:MST
DTSTART:20221106T080000
END:STANDARD
BEGIN:DAYLIGHT
TZOFFSETFROM:-0700
TZOFFSETTO:-0600
TZNAME:MDT
DTSTART:20230312T090000
END:DAYLIGHT
BEGIN:STANDARD
TZOFFSETFROM:-0600
TZOFFSETTO:-0700
TZNAME:MST
DTSTART:20231105T080000
END:STANDARD
BEGIN:DAYLIGHT
TZOFFSETFROM:-0700
TZOFFSETTO:-0600
TZNAME:MDT
DTSTART:20240310T090000
END:DAYLIGHT
BEGIN:STANDARD
TZOFFSETFROM:-0600
TZOFFSETTO:-0700
TZNAME:MST
DTSTART:20241103T080000
END:STANDARD
BEGIN:DAYLIGHT
TZOFFSETFROM:-0700
TZOFFSETTO:-0600
TZNAME:MDT
DTSTART:20250309T090000
END:DAYLIGHT
BEGIN:STANDARD
TZOFFSETFROM:-0600
TZOFFSETTO:-0700
TZNAME:MST
DTSTART:20251102T080000
END:STANDARD
END:VTIMEZONE
BEGIN:VEVENT
DTSTART;TZID=America/Edmonton:20240224T170000
DTEND;TZID=America/Edmonton:20240224T193000
DTSTAMP:20260420T035433
CREATED:20240212T163953Z
LAST-MODIFIED:20240212T163953Z
UID:10001446-1708794000-1708803000@www.uccab.ca
SUMMARY:The second anniversary of the unprovoked and brutal war in Ukraine
DESCRIPTION:Sadly\, February 24\, 2024 is the second anniversary of the unprovoked and brutal war in Ukraine \nLet us come together in unity\, standing side by side to show that the spirit of Ukraine prevails. We invite you to join us at the rally near the Alberta Legislature – Violet King Henry Plaza. \nAs we approach the anniversary of the ongoing war in Ukraine\, our hearts ache for the courageous soldiers who have fallen and the innocent lives tormented by the cruelty of conflict. This war\, fueled by senseless violence\, has left a profound impact on our Ukrainian community here in Canada\, touching the streets of Edmonton\, Alberta and cities across the nation. \nEvent Details:\nDate: Saturday\, February 24\, 2024\nTime: 5:00 PM (Program Begins)\nLocation: Alberta Legislature – Violet King Henry Plaza \nEvent page: https://fb.me/e/4RbuNxosk \nRally and Humanitarian Aid for Ukraine Fundraiser\nSpecial Feature: “New Life” Choir\nStand With Ukraine: The light will overcome darkness – Stand With Ukraine until Victory \nAmidst this tragedy\, we encounter resilient individuals whose once peaceful and happy lives have been shattered by the ravages of war. They are our neighbors\, colleagues\, and friends – individuals who held cherished jobs\, esteemed positions\, and created warm homes filled with laughter.\nSupport goes beyond attendance; your financial assistance is vital. Please consider contributing via the link: https://www.uccab.ca/donate/
URL:https://www.uccab.ca/event/the-second-anniversary-of-the-unprovoked-and-brutal-war-in-ukraine/
LOCATION:Alberta Legislature\, 9718 107 st\, Edmonton\, Alberta\, T5K 1E4\, Canada
CATEGORIES:Community
ATTACH;FMTTYPE=image/jpeg:https://www.uccab.ca/wp-content/uploads/2024/02/425298376_782136533950654_5255973610672463637_n.jpg
ORGANIZER;CN="Ukrainian Canadian Congress - Alberta Provincial Council":MAILTO:info@uccab.ca
END:VEVENT
BEGIN:VEVENT
DTSTART;TZID=America/Edmonton:20230907T110000
DTEND;TZID=America/Edmonton:20230907T120000
DTSTAMP:20260420T035433
CREATED:20230831T195802Z
LAST-MODIFIED:20230905T202330Z
UID:10000962-1694084400-1694088000@www.uccab.ca
SUMMARY:Ukrainian-Canadian Heritage Day - Flag Raising Ceremony
DESCRIPTION:UCC-APC invites you to participate in the raising of the Ukrainian flag.\nFlag Raising Event\, will be held in Edmonton\, Legislature-Henry Plaza on September 7 at 11AM. \nУ четвер\, 7 серпня о 11:00 біля будівлі Леґістратури відбудеться підняття українського прапора.\nПриєднуйтеся та вшануйте День українсько-канадської спадщини з нами!
URL:https://www.uccab.ca/event/ukrainian-canadian-heritage-day-flag-raising-ceremony/
LOCATION:Alberta Legislature\, 9718 107 st\, Edmonton\, Alberta\, T5K 1E4\, Canada
ATTACH;FMTTYPE=image/jpeg:https://www.uccab.ca/wp-content/uploads/2023/08/addheritage1.jpg
ORGANIZER;CN="Ukrainian Canadian Congress - Alberta Provincial Council":MAILTO:info@uccab.ca
END:VEVENT
BEGIN:VEVENT
DTSTART;TZID=America/Edmonton:20230224T180000
DTEND;TZID=America/Edmonton:20230224T190000
DTSTAMP:20260420T035433
CREATED:20230215T180141Z
LAST-MODIFIED:20230217T195453Z
UID:10000302-1677261600-1677265200@www.uccab.ca
SUMMARY:United for Ukraine (Edmonton) - 1 yr anniversary of the war in Ukraine
DESCRIPTION:Please join us at 6PM on February 24 at the Alberta Legislature.\nWe encourage everyone to wear yellow and blue.\nBring Ukrainian signs and flags.\nIt will be a candlelit vigil\, so please bring candles or battery lights.
URL:https://www.uccab.ca/event/united-for-ukraine-edmonton-1-yr-anniversary-of-the-war-in-ukraine/
LOCATION:Alberta Legislature\, 9718 107 st\, Edmonton\, Alberta\, T5K 1E4\, Canada
ATTACH;FMTTYPE=image/jpeg:https://www.uccab.ca/wp-content/uploads/2023/02/328484862_1904165596593487_8109966877348304221_n.jpg
ORGANIZER;CN="Ukrainian Canadian Congress - Alberta Provincial Council":MAILTO:info@uccab.ca
END:VEVENT
END:VCALENDAR