BEGIN:VCALENDAR
VERSION:2.0
PRODID:-//UCC-APC - ECPv6.15.20//NONSGML v1.0//EN
CALSCALE:GREGORIAN
METHOD:PUBLISH
X-WR-CALNAME:UCC-APC
X-ORIGINAL-URL:https://www.uccab.ca
X-WR-CALDESC:Events for UCC-APC
REFRESH-INTERVAL;VALUE=DURATION:PT1H
X-Robots-Tag:noindex
X-PUBLISHED-TTL:PT1H
BEGIN:VTIMEZONE
TZID:America/Edmonton
BEGIN:DAYLIGHT
TZOFFSETFROM:-0700
TZOFFSETTO:-0600
TZNAME:MDT
DTSTART:20230312T090000
END:DAYLIGHT
BEGIN:STANDARD
TZOFFSETFROM:-0600
TZOFFSETTO:-0700
TZNAME:MST
DTSTART:20231105T080000
END:STANDARD
BEGIN:DAYLIGHT
TZOFFSETFROM:-0700
TZOFFSETTO:-0600
TZNAME:MDT
DTSTART:20240310T090000
END:DAYLIGHT
BEGIN:STANDARD
TZOFFSETFROM:-0600
TZOFFSETTO:-0700
TZNAME:MST
DTSTART:20241103T080000
END:STANDARD
BEGIN:DAYLIGHT
TZOFFSETFROM:-0700
TZOFFSETTO:-0600
TZNAME:MDT
DTSTART:20250309T090000
END:DAYLIGHT
BEGIN:STANDARD
TZOFFSETFROM:-0600
TZOFFSETTO:-0700
TZNAME:MST
DTSTART:20251102T080000
END:STANDARD
END:VTIMEZONE
BEGIN:VEVENT
DTSTART;TZID=America/Edmonton:20240120T163000
DTEND;TZID=America/Edmonton:20240121T163000
DTSTAMP:20260423T065529
CREATED:20240108T163659Z
LAST-MODIFIED:20240108T163659Z
UID:10001417-1705768200-1705854600@www.uccab.ca
SUMMARY:Malanka: New Year's Celebration
DESCRIPTION:Join us in celebrating Ukrainian new years with Troyanda! We are excited to welcome back all of our community and friends for a party!\nEnjoy an evening out filled with Ukrainian culture hosted by Troyanda Ukrainian Dance Club of Lethbridge! This event is a fundraiser in support of Ukrainian dance and culture in Lethbridge.\nWe are delighted to have our guests indulge with a traditional Ukrainian dinner\, a dance show provided by all of our dancers from ages 3-timeless\, and to end the evening with a social dance with live entertainment provided by Ukrainain band\, Absolute of Calgary.\nThe evening will be filled with other activities such as our silent auction where everyone can find a great item\, a 50-50 cash draw\, Troyanda shot glasses\, and a fun Vinok/Poyas (heads/tails) game on the dance floor!\nFor Malanka 2024\, we are excited to be hosting our event at the new Lethbridge & District Agri-Food Hub & Trade Centre to allow all of our friends and community to join us.\nGet your tickets early\, and your dancing shoes ready!\nTickets are on sale until January 17\, 2024. Please help support Ukrainian culture in Lethbridge!\nDietary concerns: if you have dietary concerns\, please visit the “Add-ons” options to choose your corresponding dietary concern. The dietary concerns listed are the only dietary concerns the caterer will be able to accommodate.\nSilent auction will open January 12\, 2024. If you would like to sponsor a table or donate to the event\, please contact us at troyanda@hotmail.ca
URL:https://www.uccab.ca/event/malanka-new-years-celebration/
LOCATION:Agri-Food Hub and Trade Centre\, 3401 Parkside Drive South\, Lethbridge\, Alberta\, Canada
CATEGORIES:Community
ATTACH;FMTTYPE=image/jpeg:https://www.uccab.ca/wp-content/uploads/2024/01/Malanka.jpg
ORGANIZER;CN="Troyanda Ukrainian Dance Club":MAILTO:troyanda@hotmail.ca
END:VEVENT
END:VCALENDAR