BEGIN:VCALENDAR
VERSION:2.0
PRODID:-//UCC-APC - ECPv6.15.20//NONSGML v1.0//EN
CALSCALE:GREGORIAN
METHOD:PUBLISH
X-WR-CALNAME:UCC-APC
X-ORIGINAL-URL:https://www.uccab.ca
X-WR-CALDESC:Events for UCC-APC
REFRESH-INTERVAL;VALUE=DURATION:PT1H
X-Robots-Tag:noindex
X-PUBLISHED-TTL:PT1H
BEGIN:VTIMEZONE
TZID:America/Edmonton
BEGIN:DAYLIGHT
TZOFFSETFROM:-0700
TZOFFSETTO:-0600
TZNAME:MDT
DTSTART:20220313T090000
END:DAYLIGHT
BEGIN:STANDARD
TZOFFSETFROM:-0600
TZOFFSETTO:-0700
TZNAME:MST
DTSTART:20221106T080000
END:STANDARD
BEGIN:DAYLIGHT
TZOFFSETFROM:-0700
TZOFFSETTO:-0600
TZNAME:MDT
DTSTART:20230312T090000
END:DAYLIGHT
BEGIN:STANDARD
TZOFFSETFROM:-0600
TZOFFSETTO:-0700
TZNAME:MST
DTSTART:20231105T080000
END:STANDARD
BEGIN:DAYLIGHT
TZOFFSETFROM:-0700
TZOFFSETTO:-0600
TZNAME:MDT
DTSTART:20240310T090000
END:DAYLIGHT
BEGIN:STANDARD
TZOFFSETFROM:-0600
TZOFFSETTO:-0700
TZNAME:MST
DTSTART:20241103T080000
END:STANDARD
BEGIN:DAYLIGHT
TZOFFSETFROM:-0700
TZOFFSETTO:-0600
TZNAME:MDT
DTSTART:20250309T090000
END:DAYLIGHT
BEGIN:STANDARD
TZOFFSETFROM:-0600
TZOFFSETTO:-0700
TZNAME:MST
DTSTART:20251102T080000
END:STANDARD
BEGIN:DAYLIGHT
TZOFFSETFROM:-0700
TZOFFSETTO:-0600
TZNAME:MDT
DTSTART:20260308T090000
END:DAYLIGHT
BEGIN:STANDARD
TZOFFSETFROM:-0600
TZOFFSETTO:-0700
TZNAME:MST
DTSTART:20261101T080000
END:STANDARD
END:VTIMEZONE
BEGIN:VEVENT
DTSTART;VALUE=DATE:20250410
DTEND;VALUE=DATE:20250413
DTSTAMP:20260423T022928
CREATED:20250402T173112Z
LAST-MODIFIED:20250402T191143Z
UID:10001530-1744243200-1744502399@www.uccab.ca
SUMMARY:Shumka Dance Festival
DESCRIPTION:Shumka is excited to invite you to the inaugural Shumka Dance Festival at Edmonton’s prestigious Northern Alberta Jubilee Auditorium\, taking place from Thursday\, April 10\, to Saturday\, April 12\, 2025. The festival promises to be a vibrant celebration of Ukrainian dance\, showcasing the immense talent\, creativity\, and dedication within our community.
URL:https://www.uccab.ca/event/shumka-dance-festival/
LOCATION:Northern Alberta Jubilee Auditorium\, 11455 87 Ave NW\, Edmonton\, Alberta\, T6G 2T2
ATTACH;FMTTYPE=image/jpeg:https://www.uccab.ca/wp-content/uploads/2025/03/Coloour-Splash-Logo.jpg
END:VEVENT
BEGIN:VEVENT
DTSTART;TZID=America/Edmonton:20241005T193000
DTEND;TZID=America/Edmonton:20241005T220000
DTSTAMP:20260423T022929
CREATED:20240717T164206Z
LAST-MODIFIED:20240717T164206Z
UID:10001480-1728156600-1728165600@www.uccab.ca
SUMMARY:Shumka's UKRAINKA: The Four Faces of Lesya Ukrainka
DESCRIPTION:The world premiere of Shumka’s UKRAINKA: The Four Faces of Lesya Ukrainka celebrates the renowned Ukrainian artist\, storyteller\, poet\, and humanitarian. \nLesya Ukrainka led a troubled life suffering from medical ailments that limited her physically\, she lived vicariously through her art. She is a legend among the Ukrainian diaspora\, and as a woman\, is especially inspiring in a patriarchal culture. \nShumka’s newest production focuses on the “four faces” of Lesya Ukrainka – the dreamer\, the traditionalist\, the lover\, and the leader. Her hope for Ukraine’s independence in a series of troubled times is as poignant as ever today.
URL:https://www.uccab.ca/event/shumkas-ukrainka-the-four-faces-of-lesya-ukrainka/
LOCATION:Northern Alberta Jubilee Auditorium\, 11455 87 Ave NW\, Edmonton\, Alberta\, T6G 2T2
ATTACH;FMTTYPE=image/jpeg:https://www.uccab.ca/wp-content/uploads/2024/07/Shumkas-Lesya-Ukrainka-24-IG-1.jpg
END:VEVENT
BEGIN:VEVENT
DTSTART;TZID=America/Edmonton:20231109T190000
DTEND;TZID=America/Edmonton:20231109T195000
DTSTAMP:20260423T022929
CREATED:20231101T175340Z
LAST-MODIFIED:20231101T175340Z
UID:10001330-1699556400-1699559400@www.uccab.ca
SUMMARY:Shumka's Mosquito's Wedding in 3-D
DESCRIPTION:Ukrainian Shumka Dancers are thrilled to announce the 3-D screening premiere of Mosquito’s Wedding\, Thursday\, November 9 at the Landmark City Centre Cinemas\, in Edmonton City Centre 10200 102 Ave NW. Tickets are $10 for big bugs\, and $5 for little bugs (children 10 and under). \nAn original stage production that premiered in 2018\, Mosquito’s Wedding (All We Need Is Love) is inspired by a traditional Ukrainian folk song. The 50-minute all-ages production features a number of insect characters from various “regions” of Ukraine. The dance lexicon\, musical compositions\, and sets\, costumes and props are associated with these ethnographic regions. The theme of the production is poignant\, being one of acceptance\, diversity\, and overcoming stereotypes. \nMosquito’s Wedding was filmed during Shumka on Tour in 2022 by Northern Gateway Films for a 3-D cinematic experience. Funded in part by Canada Council of the Arts: Digital Now Program.
URL:https://www.uccab.ca/event/shumkas-mosquitos-wedding-in-3-d/
LOCATION:Landmark City Centre Cinemas\, 10200 102ave\, Edmonton\, Alberta\, J 4B7\, Canada
ATTACH;FMTTYPE=image/png:https://www.uccab.ca/wp-content/uploads/2023/11/Shumkas-MW-The-Movie-in-3D-FB-Banner-Web-Tile.png
END:VEVENT
BEGIN:VEVENT
DTSTART;TZID=America/Edmonton:20230226T130000
DTEND;TZID=America/Edmonton:20230226T160000
DTSTAMP:20260423T022929
CREATED:20230216T230329Z
LAST-MODIFIED:20230216T230329Z
UID:10000306-1677416400-1677427200@www.uccab.ca
SUMMARY:Shumka Auditions
DESCRIPTION:SHUMKA AUDITIONS 2023 \nSunday February 26 \nDoors open at 1 PM; Auditions at 2 PM \nShumka Dance Centre\n10515 – 111 Street\, Edmonton\, Alberta \nRealize your dance dreams! Take the step to exciting dance opportunities\, great friendships and life-lasting personal development. Join Shumka in training\, the development of new works\, a “Whirlwind Summer” of festival performances\, and a 3-city Nutcracker tour – all in 2023! \nThe audition will include basic ballet barre\, character and contemporary combinations\, regional Ukrainian dance combinations\, basic acting while performing\, and an opportunity to demonstrate solos or acrobatics. \nAuditions are open to the entire dance community. Although experience in Ukrainian dance is an asset\, anyone with high-calibre training in ballet\, contemporary\, jazz\, or modern dance\, acrobatics\, or stage experience in another style of dance will be considered. Dancers must be at least 16 years of age in 2023. \nDancers in Shumka are not required to pay for tuition\, training or touring costs.
URL:https://www.uccab.ca/event/shumka-auditions/
LOCATION:Shumka Dance Centre\, 10515 111 St NW\, Edmonton\, Ab\, T5H 3E8\, Canada
ATTACH;FMTTYPE=image/jpeg:https://www.uccab.ca/wp-content/uploads/2023/02/Shumka-Auditions-2023-Poster-Digital-1.jpg
END:VEVENT
END:VCALENDAR