BEGIN:VCALENDAR
VERSION:2.0
PRODID:-//UCC-APC - ECPv6.15.20//NONSGML v1.0//EN
CALSCALE:GREGORIAN
METHOD:PUBLISH
X-WR-CALNAME:UCC-APC
X-ORIGINAL-URL:https://www.uccab.ca
X-WR-CALDESC:Events for UCC-APC
REFRESH-INTERVAL;VALUE=DURATION:PT1H
X-Robots-Tag:noindex
X-PUBLISHED-TTL:PT1H
BEGIN:VTIMEZONE
TZID:America/Edmonton
BEGIN:DAYLIGHT
TZOFFSETFROM:-0700
TZOFFSETTO:-0600
TZNAME:MDT
DTSTART:20250309T090000
END:DAYLIGHT
BEGIN:STANDARD
TZOFFSETFROM:-0600
TZOFFSETTO:-0700
TZNAME:MST
DTSTART:20251102T080000
END:STANDARD
BEGIN:DAYLIGHT
TZOFFSETFROM:-0700
TZOFFSETTO:-0600
TZNAME:MDT
DTSTART:20260308T090000
END:DAYLIGHT
BEGIN:STANDARD
TZOFFSETFROM:-0600
TZOFFSETTO:-0700
TZNAME:MST
DTSTART:20261101T080000
END:STANDARD
BEGIN:DAYLIGHT
TZOFFSETFROM:-0700
TZOFFSETTO:-0600
TZNAME:MDT
DTSTART:20270314T090000
END:DAYLIGHT
BEGIN:STANDARD
TZOFFSETFROM:-0600
TZOFFSETTO:-0700
TZNAME:MST
DTSTART:20271107T080000
END:STANDARD
END:VTIMEZONE
BEGIN:VEVENT
DTSTART;TZID=America/Edmonton:20260424T190000
DTEND;TZID=America/Edmonton:20260424T220000
DTSTAMP:20260420T053408
CREATED:20260303T164334Z
LAST-MODIFIED:20260303T164334Z
UID:10001830-1777057200-1777068000@www.uccab.ca
SUMMARY:Unbreakable: Shaun Pinner Live
DESCRIPTION:Join us for an extraordinary evening with Shaun Pinner\, a former British soldier who chose to stand shoulder‑to‑shoulder with Ukraine. Serving as a Ukrainian marine since 2018\, Shaun fought bravely in Mariupol before being captured and sentenced to death by Donetsk People Republic court. After six months in captivity\, he was freed in a prisoner exchange. Later\, Shaun received the Order of Courage from President Volodymyr Zelensky for his selfless defense of Ukraine’s sovereignty. \nProceeds will benefit Friends of Ukraine Defence Forces Fund supporting those who continue to defend freedom. This event is best suited for ages 16+ due to subject matter. \nShaun’s story is one of resilience\, sacrifice\, and unbreakable spirit. He has since authored a book titled Live. Fight. Survive\, a gripping account of his experiences\, and has spoken to NATO forces and communities worldwide about the realities of war and survival. \nAt this event\, Shaun will share his journey — from the battlefield to imprisonment\, torture\, and eventual release — offering a rare\, firsthand perspective on courage in the face of impossible odds. \n✨ Highlights of the evening: \nKeynote by Shaun Pinner\nQ&A session with the audience\nWine & cheese reception\n🎟️ Buy your tickets now and be part of an unforgettable night of truth\, resilience\, and solidarity.
URL:https://www.uccab.ca/event/unbreakable-shaun-pinner-live/
LOCATION:Ukrainian Youth Unity Complex (Domivka) Address: 9615 153 Ave NW\, Edmonton\, AB\, Ukrainian Youth Unity Complex (Domivka) Address: 9615 153 Ave NW\, Edmonton\, AB
ATTACH;FMTTYPE=image/jpeg:https://www.uccab.ca/wp-content/uploads/2021/09/UCC-APC_default_post_image_1-min.jpg
END:VEVENT
END:VCALENDAR