BEGIN:VCALENDAR
VERSION:2.0
PRODID:-//UCC-APC - ECPv6.15.20//NONSGML v1.0//EN
CALSCALE:GREGORIAN
METHOD:PUBLISH
X-ORIGINAL-URL:https://www.uccab.ca
X-WR-CALDESC:Events for UCC-APC
REFRESH-INTERVAL;VALUE=DURATION:PT1H
X-Robots-Tag:noindex
X-PUBLISHED-TTL:PT1H
BEGIN:VTIMEZONE
TZID:America/Edmonton
BEGIN:DAYLIGHT
TZOFFSETFROM:-0700
TZOFFSETTO:-0600
TZNAME:MDT
DTSTART:20220313T090000
END:DAYLIGHT
BEGIN:STANDARD
TZOFFSETFROM:-0600
TZOFFSETTO:-0700
TZNAME:MST
DTSTART:20221106T080000
END:STANDARD
BEGIN:DAYLIGHT
TZOFFSETFROM:-0700
TZOFFSETTO:-0600
TZNAME:MDT
DTSTART:20230312T090000
END:DAYLIGHT
BEGIN:STANDARD
TZOFFSETFROM:-0600
TZOFFSETTO:-0700
TZNAME:MST
DTSTART:20231105T080000
END:STANDARD
BEGIN:DAYLIGHT
TZOFFSETFROM:-0700
TZOFFSETTO:-0600
TZNAME:MDT
DTSTART:20240310T090000
END:DAYLIGHT
BEGIN:STANDARD
TZOFFSETFROM:-0600
TZOFFSETTO:-0700
TZNAME:MST
DTSTART:20241103T080000
END:STANDARD
END:VTIMEZONE
BEGIN:VEVENT
DTSTART;TZID=America/Edmonton:20230604T170000
DTEND;TZID=America/Edmonton:20230604T220000
DTSTAMP:20260420T070207
CREATED:20230531T205604Z
LAST-MODIFIED:20230531T205604Z
UID:10000947-1685898000-1685916000@www.uccab.ca
SUMMARY:Зелені Свята (Green Holidays)
DESCRIPTION:Панахида Полеглим Борцям за Волю України – Memorial to the Fighters who have Fallen for the Freedom of Ukraine \nСлава Україні! \nЗапрошуємо Вас з родинами та всю громаду на панахиди вшанування всіх Героїв\, які загинули в за Волю України що відбудеться в неділю 4 червня на цвинтарі св. Михаїла при головному хресті починаючи о 5:00 годині вечора \nGlory to Ukraine! \nWe invite you\, your families and the whole community to the memorial services of all Heroes who died for the Will of Ukraine\, which will be held on Sunday\, June 4\, at the cemetery of St. Michael at the main cross starting at 5:00 in the evening
URL:https://www.uccab.ca/event/%d0%b7%d0%b5%d0%bb%d0%b5%d0%bd%d1%96-%d1%81%d0%b2%d1%8f%d1%82%d0%b0-green-holidays/
LOCATION:St Michael’s Cemetery\, 13819-82 St.\, Edmonton\, Alberta\, Canada
CATEGORIES:Community
ATTACH;FMTTYPE=image/jpeg:https://www.uccab.ca/wp-content/uploads/2023/05/96382f2e-84d4-7a08-459a-3c67a2efad4f.jpg
END:VEVENT
BEGIN:VEVENT
DTSTART;TZID=America/Edmonton:20230423T040000
DTEND;TZID=America/Edmonton:20230423T110000
DTSTAMP:20260420T070207
CREATED:20230418T170816Z
LAST-MODIFIED:20230418T170816Z
UID:10000927-1682222400-1682247600@www.uccab.ca
SUMMARY:Vesnianky for Ukraine Spring Zabava
DESCRIPTION:Don’t miss a chance to welcome spring brightly\, with Ukrainian traditions and supporting Ukraine financially! \nEASTER DICSOUNTED TIKETS SALE UNTIL FRIDAY APRIL 21! \n– $50 for an adult\,\n– $25 for children 12yrs and under\,\n– 3 years and under are free\n– $40 Zabava Only \nTickets available online at cutt.ly/s47RQGL \nProgram: \n– Vesnianky spring Ukrainian social dance and singing workshop;\n– Silent auction;\n– Perogies Hot Late Lunch & Cocktails;\n– Live Music By: Euphoria Band;\n– Performance by Volya Ukrainian Dance Ensemble\n– Photobooth \nAll proceeds go to the Guardian Angels of Ukraine Fund and Ukrainian Armed Forces. \nDon’t miss out on this exciting opportunity to connect with your heritage and embrace the beauty of Ukrainian culture. Mark your calendars and join us for Vesnianky on April 22nd! Don’t forget to wear your vyshyvanky or something blue and yellow! We can’t wait to see you there! \nFor tickets contact: \nAndrii — 780 504 5340\nVira: 780 266 7787 (text anytime\, call — after 7 pm)\nAnna: 403 479 2227 (after 4 pm)
URL:https://www.uccab.ca/event/vesnianky-for-ukraine-spring-zabava/2023-04-23/
LOCATION:Ukrainian Youth Unity Complex\, 9615 153 ave\, Edmonton\, Alberta\, T5E 6B1\, Canada
CATEGORIES:Community
ATTACH;FMTTYPE=image/png:https://www.uccab.ca/wp-content/uploads/2023/04/1.png
END:VEVENT
BEGIN:VEVENT
DTSTART;TZID=America/Edmonton:20230422T080000
DTEND;TZID=America/Edmonton:20230422T170000
DTSTAMP:20260420T070207
CREATED:20230418T170816Z
LAST-MODIFIED:20230418T170816Z
UID:10000925-1682150400-1682182800@www.uccab.ca
SUMMARY:Vesnianky for Ukraine Spring Zabava
DESCRIPTION:Don’t miss a chance to welcome spring brightly\, with Ukrainian traditions and supporting Ukraine financially! \nEASTER DICSOUNTED TIKETS SALE UNTIL FRIDAY APRIL 21! \n– $50 for an adult\,\n– $25 for children 12yrs and under\,\n– 3 years and under are free\n– $40 Zabava Only \nTickets available online at cutt.ly/s47RQGL \nProgram: \n– Vesnianky spring Ukrainian social dance and singing workshop;\n– Silent auction;\n– Perogies Hot Late Lunch & Cocktails;\n– Live Music By: Euphoria Band;\n– Performance by Volya Ukrainian Dance Ensemble\n– Photobooth \nAll proceeds go to the Guardian Angels of Ukraine Fund and Ukrainian Armed Forces. \nDon’t miss out on this exciting opportunity to connect with your heritage and embrace the beauty of Ukrainian culture. Mark your calendars and join us for Vesnianky on April 22nd! Don’t forget to wear your vyshyvanky or something blue and yellow! We can’t wait to see you there! \nFor tickets contact: \nAndrii — 780 504 5340\nVira: 780 266 7787 (text anytime\, call — after 7 pm)\nAnna: 403 479 2227 (after 4 pm)
URL:https://www.uccab.ca/event/vesnianky-for-ukraine-spring-zabava/2023-04-22/
LOCATION:Ukrainian Youth Unity Complex\, 9615 153 ave\, Edmonton\, Alberta\, T5E 6B1\, Canada
CATEGORIES:Community
ATTACH;FMTTYPE=image/png:https://www.uccab.ca/wp-content/uploads/2023/04/1.png
END:VEVENT
BEGIN:VEVENT
DTSTART;TZID=America/Edmonton:20230420T190000
DTEND;TZID=America/Edmonton:20230420T210000
DTSTAMP:20260420T070207
CREATED:20230410T170042Z
LAST-MODIFIED:20230410T170042Z
UID:10000923-1682017200-1682024400@www.uccab.ca
SUMMARY:“Enemy Archives” Book Launch with Dr. Lubomyr Luciuk
DESCRIPTION:Newly released book that presents “the Ukrainian Nationalist movement during and after WW2 recently researched archival material. “Enemy Archives”\, released in February\, 2023 is a 1176 page collection of annotated documents\, compiled by researchers Lubomyr Luciuk and Volodymyr Viatrovych. Presenting at the Edmonton Book Launch will be Dr. Lubomyr Luciuk. It will take place at the Ukrainian Youth Unity Complex 9615 153 Avenue. Books will be available for purchase.
URL:https://www.uccab.ca/event/enemy-archives-book-launch-with-dr-lubomyr-luciuk/
LOCATION:Ukrainian Youth Unity Complex\, 9615 153 ave\, Edmonton\, Alberta\, T5E 6B1\, Canada
ATTACH;FMTTYPE=image/jpeg:https://www.uccab.ca/wp-content/uploads/2023/04/78B5526A-DC1A-49D9-BE1D-5FECCFA29ABE.jpeg
END:VEVENT
END:VCALENDAR