BEGIN:VCALENDAR
VERSION:2.0
PRODID:-//UCC-APC - ECPv6.15.20//NONSGML v1.0//EN
CALSCALE:GREGORIAN
METHOD:PUBLISH
X-ORIGINAL-URL:https://www.uccab.ca
X-WR-CALDESC:Events for UCC-APC
REFRESH-INTERVAL;VALUE=DURATION:PT1H
X-Robots-Tag:noindex
X-PUBLISHED-TTL:PT1H
BEGIN:VTIMEZONE
TZID:America/Edmonton
BEGIN:DAYLIGHT
TZOFFSETFROM:-0700
TZOFFSETTO:-0600
TZNAME:MDT
DTSTART:20220313T090000
END:DAYLIGHT
BEGIN:STANDARD
TZOFFSETFROM:-0600
TZOFFSETTO:-0700
TZNAME:MST
DTSTART:20221106T080000
END:STANDARD
BEGIN:DAYLIGHT
TZOFFSETFROM:-0700
TZOFFSETTO:-0600
TZNAME:MDT
DTSTART:20230312T090000
END:DAYLIGHT
BEGIN:STANDARD
TZOFFSETFROM:-0600
TZOFFSETTO:-0700
TZNAME:MST
DTSTART:20231105T080000
END:STANDARD
BEGIN:DAYLIGHT
TZOFFSETFROM:-0700
TZOFFSETTO:-0600
TZNAME:MDT
DTSTART:20240310T090000
END:DAYLIGHT
BEGIN:STANDARD
TZOFFSETFROM:-0600
TZOFFSETTO:-0700
TZNAME:MST
DTSTART:20241103T080000
END:STANDARD
END:VTIMEZONE
BEGIN:VEVENT
DTSTART;VALUE=DATE:20230923
DTEND;VALUE=DATE:20230925
DTSTAMP:20260419T185026
CREATED:20230214T164808Z
LAST-MODIFIED:20230214T164808Z
UID:10000300-1695427200-1695599999@www.uccab.ca
SUMMARY:CYMK Choir Reunion
DESCRIPTION:– part of the celebrations of the centenary of St John’s Ukrainian Orthodox Parish\n– Saturday\, November 23: afternoon rehearsal & evening dinner and social\n– Sunday\, November 24: Divine Liturgy sung by CYMK Choir alumni and lunch
URL:https://www.uccab.ca/event/cymk-choir-reunion/
LOCATION:St John’s Ukrainian Orthodox Cathedral\, 10951 - 107 Street NW\, Edmonton\, AB\, T6R 2H9\, Canada
ATTACH;FMTTYPE=image/jpeg:https://www.uccab.ca/wp-content/uploads/2021/09/UCC-APC_default_post_image_1-min.jpg
ORGANIZER;CN="CYMK Choir Reunion Committee":MAILTO:osoltykevych@yahoo.ca
END:VEVENT
END:VCALENDAR