BEGIN:VCALENDAR
VERSION:2.0
PRODID:-//UCC-APC - ECPv6.15.20//NONSGML v1.0//EN
CALSCALE:GREGORIAN
METHOD:PUBLISH
X-WR-CALNAME:UCC-APC
X-ORIGINAL-URL:https://www.uccab.ca
X-WR-CALDESC:Events for UCC-APC
REFRESH-INTERVAL;VALUE=DURATION:PT1H
X-Robots-Tag:noindex
X-PUBLISHED-TTL:PT1H
BEGIN:VTIMEZONE
TZID:America/Edmonton
BEGIN:DAYLIGHT
TZOFFSETFROM:-0700
TZOFFSETTO:-0600
TZNAME:MDT
DTSTART:20240310T090000
END:DAYLIGHT
BEGIN:STANDARD
TZOFFSETFROM:-0600
TZOFFSETTO:-0700
TZNAME:MST
DTSTART:20241103T080000
END:STANDARD
BEGIN:DAYLIGHT
TZOFFSETFROM:-0700
TZOFFSETTO:-0600
TZNAME:MDT
DTSTART:20250309T090000
END:DAYLIGHT
BEGIN:STANDARD
TZOFFSETFROM:-0600
TZOFFSETTO:-0700
TZNAME:MST
DTSTART:20251102T080000
END:STANDARD
BEGIN:DAYLIGHT
TZOFFSETFROM:-0700
TZOFFSETTO:-0600
TZNAME:MDT
DTSTART:20260308T090000
END:DAYLIGHT
BEGIN:STANDARD
TZOFFSETFROM:-0600
TZOFFSETTO:-0700
TZNAME:MST
DTSTART:20261101T080000
END:STANDARD
END:VTIMEZONE
BEGIN:VEVENT
DTSTART;TZID=America/Edmonton:20250426T190000
DTEND;TZID=America/Edmonton:20250426T230000
DTSTAMP:20260424T010927
CREATED:20250424T143459Z
LAST-MODIFIED:20250424T143459Z
UID:10001535-1745694000-1745708400@www.uccab.ca
SUMMARY:Beats and Borshch
DESCRIPTION:This Saturday leave your election angst behind from 7-11pm and support a Ukrainian Canadian film project in Alberta – Dance your worries away with beats by Ukrainian DJ mookanoid and borshch by Saskitoba. \nOy Marichka! a feature film to be filmed in and around Edmonton is the latest project by Edmonton native and award-winning writer/director Darcia Parada @darciaparada While romance\, hockey and second chances are featured within the film at its heart it is a love story inspired by Parada’s roots and a tribute to her ancestry. Her Ukrainian grandparents settled in Canada where they made a new home for themselves due to hardships faced in their homeland. \nBEATS & BORSHCH\nAPR 26\, 2025 TO APR 26\, 2025\nAn Oy Marichka! Film Fundraiser\n7:00 p.m. – 11:00 p.m.\nIn the Gallery at Alberta Council for the Ukrainian Arts\n10554 110 St NW Unit 100\nBeats & Borshch is a fundraising event in of support Oy Marichka! a Canadian-Ukrainian themed movie from Edmonton native and award-winning writer/director Darcia Parada. Special Guest DJ Mookanoid.\nTickets are free or by donation. Sign up through the Oy Marichka! website or simply show up!\nTickets for the Oy Marichka! 50/50 auction raffle will also be available. Tickets to the raffle can be found on oymarichkathemovie.com homepage. \nFood supplied by Saskitoba at $10 per bowl. \nDJ Mookanoid is an experienced open-format DJ with a global track record since 2006 when they started with high-energy open-air and nightclub gigs across Ukraine\, then expanded internationally as a cruise ship DJ for top-tier lines like Royal Caribbean and Carnival and is known for adaptability\, crowd-reading skills\, and delivering unforgettable sets across all genres. \nFilm Synopsis\nMary Pekaruk’s mother is at death’s door. She boards a transatlantic flight home but arrives too late. A magpie appears as Mary steps into the role of matriarch. Is it the soul of her mother guiding her? As the family grieves and plans the funeral Mary begs her boyfriend Todd in London to show\, but he doesn’t. Home for Christmas\, Joe\, a widowed pro-hockey player and his son deliver a package from his mother. As Mary fills her mother’s bakery orders\, tends to the farm\, and revisits her youth and Ukrainian customs her attraction to Joe grows. When Joe leaves\, she is torn and confused about her life’s direction. She returns to London\, finds Todd with another woman and high tails it back to Canada to reopen her mother’s bakery and a law office. Joe and Luke arrive at the opening with news that Joe has taken a nearby coaching job. The next Christmas Eve Mary hosts dinner for the family who are gathered and the magpie\, satisfied\, flies away.
URL:https://www.uccab.ca/event/beats-and-borshch/
LOCATION:ACUA\, 10554 110 Street Unit 100\, Edmonton\, Alberta\, T5H 3C5\, Canada
CATEGORIES:Community
ATTACH;FMTTYPE=image/jpeg:https://www.uccab.ca/wp-content/uploads/2025/04/BEETSBORSCH_WEB.jpg
ORGANIZER;CN="Alberta Council for the Ukrainian Arts":MAILTO:info@acuarts.ca
END:VEVENT
END:VCALENDAR